BEGIN:VCALENDAR
VERSION:2.0
PRODID:-//TalkHeap - ECPv6.13.0//NONSGML v1.0//EN
CALSCALE:GREGORIAN
METHOD:PUBLISH
X-ORIGINAL-URL:https://talkheap.com
X-WR-CALDESC:Events for TalkHeap
REFRESH-INTERVAL;VALUE=DURATION:PT1H
X-Robots-Tag:noindex
X-PUBLISHED-TTL:PT1H
BEGIN:VTIMEZONE
TZID:America/New_York
BEGIN:DAYLIGHT
TZOFFSETFROM:-0500
TZOFFSETTO:-0400
TZNAME:EDT
DTSTART:20250309T070000
END:DAYLIGHT
BEGIN:STANDARD
TZOFFSETFROM:-0400
TZOFFSETTO:-0500
TZNAME:EST
DTSTART:20251102T060000
END:STANDARD
END:VTIMEZONE
BEGIN:VEVENT
DTSTART;TZID=America/New_York:20251106T090000
DTEND;TZID=America/New_York:20251106T093000
DTSTAMP:20260424T154852
CREATED:20250525T100419Z
LAST-MODIFIED:20250527T081645Z
UID:3318-1762419600-1762421400@talkheap.com
SUMMARY:November 2025 – Data-Driven Marketing Strategies
DESCRIPTION:November 2025 – Data-Driven Marketing Strategies\nWhat You’ll Learn: \n\nSetting up analytics and attribution tracking \nA/B testing copy\, creative\, and offers \nPersonalization tactics using customer insights \nScaling paid and organic channels with confidence \n\nWho Should Attend:\n Marketing directors\, CMOs\, demand-gen teams \nRegister: Sign up for November →
URL:https://talkheap.com/event/november-2025-data-driven-marketing-strategies/
END:VEVENT
END:VCALENDAR